BEGIN:VCALENDAR
VERSION:2.0
PRODID:http://www.kirche-im-sr.de
BEGIN:VEVENT
UID:7813f94f-38a5-11f1-a3e9-0242ac11002b-1777095600000-de
DTSTAMP:20260415T083116Z
DTSTART:20260425T054000Z
DTEND:20260425T100000Z
SUMMARY;LANGUAGE=de:Zwischenruf
DESCRIPTION;LANGUAGE=de:Von Corinna Achtermann: "Du hast dein Bestes getan"
IMAGE;VALUE=URI;DISPLAY=BADGE;FMTTYPE=image/jpeg:http://www.kirche-im-sr.de/export/sites/kirche-im-sr/.galleries/bilder/tony-lomas-Ee1Ovp7qzfg-unsplash.jpg
URL:http://www.kirche-im-sr.de/sendetermine/veranstaltungen/veranstaltung/Zwischenruf-2026.04.25/
END:VEVENT
END:VCALENDAR
